BEGIN:VCALENDAR
PRODID:-//event//iCal4j 1.0//EN
CALSCALE:GREGORIAN
BEGIN:VEVENT
DTSTAMP:20260422T135635Z
DTSTART:20230731T140000Z
DTEND:20230731T220000Z
SUMMARY:edtechnext
LOCATION:
END:VEVENT
END:VCALENDAR
